BEGIN:VCALENDAR
VERSION:2.0
PRODID:-//eventon.com NONSGML v1.0//EN
BEGIN:VEVENT
UID:69e9a90788364
DTSTAMP:20260423T070719
DTSTART:20220419T100000Z
DTEND:20220419T215000Z
TZID:Europe/Madrid
LOCATION:Explanada del Palacio de Congresos y Exposiciones de Aguadulce 
SUMMARY:Presentación de la II edición del Salón del Vehículo Clásico\,  de Época y Antigüedades ‘Retro Almería’
DESCRIPTION: La diputada provincial\,  Carmen B. López\,  participa en la presentación de la II edición del Salón del Vehículo Clásico\,  de Época y Antigüedades ‘Retro Almería’.\nhttps://blog.dipalme.org/events/presentacion-de-la-ii-edicion-del-salon-del-vehiculo-clasico-de-epoca-y-antiguedades-retro-almeria/
URL:https://blog.dipalme.org/events/presentacion-de-la-ii-edicion-del-salon-del-vehiculo-clasico-de-epoca-y-antiguedades-retro-almeria/
END:VEVENT
END:VCALENDAR