BEGIN:VCALENDAR
VERSION:2.0
PRODID:-//eventon.com NONSGML v1.0//EN
BEGIN:VEVENT
UID:69eb2802d888d
DTSTAMP:20260424T102122
DTSTART:20220329T090000Z
DTEND:20220329T215000Z
TZID:Europe/Madrid
LOCATION:Pabellón 14 de IFEMA 
SUMMARY:‘Sabores Almería’ en Madrid Fusión 2022
DESCRIPTION: La Diputación de Almería convoca a los medios de comunicación a la segunda jornada del expositor de ‘Sabores Almería’ en Madrid Fusión 2022 en IFEMA\,  Madrid\,  en el Pabellón 14.   Asistirán el presidente de Diputación\,  Javier A. García\,  y los diputados provinciales de Presidencia y Promoción Agroalimentaria\,  Fernando Giménez[..]\nhttps://blog.dipalme.org/events/sabores-almeria-en-madrid-fusion-2022-2/
URL:https://blog.dipalme.org/events/sabores-almeria-en-madrid-fusion-2022-2/
END:VEVENT
END:VCALENDAR