BEGIN:VCALENDAR
VERSION:2.0
PRODID:-//eventon.com NONSGML v1.0//EN
BEGIN:VEVENT
UID:69e6841a62531
DTSTAMP:20260420T215258
DTSTART:20220317T094500Z
DTEND:20220317T225000Z
TZID:Europe/Madrid
LOCATION:Palacio de Exposiciones y Congresos de El Toyo 
SUMMARY:I Foro del Sector Turístico de la Ciudad de Almería
DESCRIPTION: El diputado de Turismo\,  Fernando Giménez\,  participa en el I Foro del Sector Turístico de la Ciudad de Almería.\nhttps://blog.dipalme.org/events/i-foro-del-sector-turistico-de-la-ciudad-de-almeria/
URL:https://blog.dipalme.org/events/i-foro-del-sector-turistico-de-la-ciudad-de-almeria/
END:VEVENT
END:VCALENDAR