BEGIN:VCALENDAR
VERSION:2.0
PRODID:-//eventon.com NONSGML v1.0//EN
BEGIN:VEVENT
UID:69ea2ccd5389d
DTSTAMP:20260423T162933
DTSTART:20220224T100000Z
DTEND:20220224T225000Z
TZID:Europe/Madrid
LOCATION:Asociación ASALSIDO 
SUMMARY:Visita y entrega de subvención a ASALSIDO para su proyecto ‘Viviendas Siglo XXI’
DESCRIPTION: La Diputación de Almería convoca a los medios de comunicación a la visita y entrega de subvención a la Asociación ASALSIDO – Down Almería para su proyecto ‘Viviendas Siglo XXI’. Las declaraciones se realizarán al término de la visita en el Salón de Actos\,  2ª planta\,  con pie de micro[..]\nhttps://blog.dipalme.org/events/visita-y-entrega-de-subvencion-a-asalsido-para-su-proyecto-viviendas-siglo-xxi/
URL:https://blog.dipalme.org/events/visita-y-entrega-de-subvencion-a-asalsido-para-su-proyecto-viviendas-siglo-xxi/
END:VEVENT
END:VCALENDAR