BEGIN:VCALENDAR
VERSION:2.0
PRODID:-//eventon.com NONSGML v1.0//EN
BEGIN:VEVENT
UID:69e992d9eab01
DTSTAMP:20260423T053241
DTSTART:20211209T110000Z
DTEND:20211209T225000Z
TZID:Europe/Madrid
LOCATION:Patio de Luces de la Diputación Provincial 
SUMMARY:Inauguración del Belén Provincial
DESCRIPTION: La Diputación Provincial de Almería convoca a los medios de comunicación a la inauguración del Belén Provincial que tendrá lugar este jueves\,  9 de diciembre\,  en el Patio de Luces de Diputación. En el acto intervendrá el presidente de Diputación\,  Javier A. García; el obispo de Almería\,  Antonio Gómez Cantero[..]\nhttps://blog.dipalme.org/events/inauguracion-del-belen-provincial/
URL:https://blog.dipalme.org/events/inauguracion-del-belen-provincial/
END:VEVENT
END:VCALENDAR