BEGIN:VCALENDAR
VERSION:2.0
PRODID:-//eventon.com NONSGML v1.0//EN
BEGIN:VEVENT
UID:69ebdfba2524f
DTSTAMP:20260424T232514
DTSTART:20211104T093000Z
DTEND:20211104T225000Z
TZID:Europe/Madrid
LOCATION:Patio del Mandarino. Área de Cultura de la Diputación Provincial de Almería Plaza Bendicho s/n. Almería
SUMMARY:Presentación de las series de tv nominadas en FICAL 2021
DESCRIPTION: La Diputación de Almería convoca a los medios de comunicación a la rueda de prensa de presentación de la nueva sección de series de televisión del Festival Internacional de Cine de Almería\,  así como las producciones que han sido nominadas. En la presentación intervendrá el diputado de Cultura y Cine\, [..]\nhttps://blog.dipalme.org/events/presentacion-de-las-series-de-tv-nominadas-en-fical-2021/
URL:https://blog.dipalme.org/events/presentacion-de-las-series-de-tv-nominadas-en-fical-2021/
END:VEVENT
END:VCALENDAR