BEGIN:VCALENDAR
VERSION:2.0
PRODID:-//eventon.com NONSGML v1.0//EN
BEGIN:VEVENT
UID:69ea74090530c
DTSTAMP:20260423T213329
DTSTART:20211007T090000Z
DTEND:20211007T215000Z
TZID:Europe/Madrid
LOCATION:Patio de Luces de la Diputación Provincial 
SUMMARY:Entrega Subvenciones a proyectos de Innovación y Bienestar Social
DESCRIPTION: La Diputación Provincial de Almería convoca a los medios de comunicación al acto de entrega de subvenciones a proyectos de Innovación y Bienestar Social. Asistirán al acto el presidente de la Diputación\,  Javier A. García\,  la vicepresidenta y diputada de Bienestar Social\,  Ángeles Martínez\,  el diputado de Presidencia\,  Turismo y[..]\nhttps://blog.dipalme.org/events/entrega-subvenciones-a-proyectos-de-innovacion-y-bienestar-social/
URL:https://blog.dipalme.org/events/entrega-subvenciones-a-proyectos-de-innovacion-y-bienestar-social/
END:VEVENT
END:VCALENDAR