BEGIN:VCALENDAR
VERSION:2.0
PRODID:-//eventon.com NONSGML v1.0//EN
BEGIN:VEVENT
UID:69ed67567b48f
DTSTAMP:20260426T031606
DTSTART:20210819T180000Z
DTEND:20210819T215000Z
TZID:Europe/Madrid
LOCATION:Patio de Luces de la Diputación Provincial 
SUMMARY:CONVOCATORIA DE MEDIOS: Inauguración de la Exposición de Fotografía Taurina ‘Emociones’
DESCRIPTION: La Diputación de Almería convoca a los medios de comunicación a la inauguración de la Exposición de Fotografía Taurina ‘Emociones’\,  de José Luis Molina y Miguel Asís\,  organizada por el Foro Cultural 3 Taurinos 3. En la presentación participará el diputado de Cultura y Cine\,  Manuel Guzmán; el presidente del[..]\nhttps://blog.dipalme.org/events/convocatoria-de-medios-inauguracion-de-la-exposicion-de-fotografia-taurina-emociones/
URL:https://blog.dipalme.org/events/convocatoria-de-medios-inauguracion-de-la-exposicion-de-fotografia-taurina-emociones/
END:VEVENT
END:VCALENDAR