BEGIN:VCALENDAR
VERSION:2.0
PRODID:-//eventon.com NONSGML v1.0//EN
BEGIN:VEVENT
UID:69e5ff4415f28
DTSTAMP:20260420T122612
DTSTART:20210726T190700Z
DTEND:20210726T190700Z
TZID:Pacific/Midway
LOCATION:
SUMMARY:AGENDA
DESCRIPTION: A continuación\,  os detallamos la agenda del presidente de Diputación y los diputados provinciales prevista para el lunes 26 de julio:  11:00 horas: El presidente\,  Javier A. García\,  participa en el acto de colocación de primera piedra de la conexión del depósito de La Pipa Alta al de San Cristóbal. Calle[..]\nhttps://blog.dipalme.org/events/agenda-87/
URL:https://blog.dipalme.org/events/agenda-87/
END:VEVENT
END:VCALENDAR