BEGIN:VCALENDAR
VERSION:2.0
PRODID:-//eventon.com NONSGML v1.0//EN
BEGIN:VEVENT
UID:69e78f152c726
DTSTAMP:20260421T165205
DTSTART:20210428T080000Z
DTEND:20210428T215000Z
TZID:Europe/Madrid
LOCATION:
SUMMARY:AGENDA
DESCRIPTION: A continuación\,  os detallamos la agenda de los diputados provinciales prevista para mañana\,  miércoles\,  28 de abril:   ·        10:00 horas: La diputada de Desarrollo Económico\,  Carmen Navarro\,  asiste a la presentación del equipo de robótica Space Six. Centro Guadalinfo de Sorbas ·        12:00 horas: El vicepresidente\, [..]\nhttps://blog.dipalme.org/events/agenda-62/
URL:https://blog.dipalme.org/events/agenda-62/
END:VEVENT
END:VCALENDAR