BEGIN:VCALENDAR
VERSION:2.0
PRODID:-//eventon.com NONSGML v1.0//EN
BEGIN:VEVENT
UID:69e67378acfe1
DTSTAMP:20260420T204200
DTSTART:20210423T213000Z
DTEND:20210424T105000Z
TZID:Pacific/Midway
LOCATION:
SUMMARY:CONVOCATORIA DE MEDIOS: Presentación de ‘Almería con buena letra’
DESCRIPTION: La Diputación de Almería convoca a los medios de comunicación a la presentación del proyecto audiovisual ‘Almería con buena letra’ que tendrá lugar mañana\,  viernes 23 de abril\,  en el Patio del Mandarino del Área de Cultura de la Diputación. En el acto intervendrán el diputado de Cultura y Cine\, [..]\nhttps://blog.dipalme.org/events/convocatoria-de-medios-presentacion-de-almeria-con-buena-letra/
URL:https://blog.dipalme.org/events/convocatoria-de-medios-presentacion-de-almeria-con-buena-letra/
END:VEVENT
END:VCALENDAR