BEGIN:VCALENDAR
VERSION:2.0
PRODID:-//eventon.com NONSGML v1.0//EN
BEGIN:VEVENT
UID:69e84ef59d04d
DTSTAMP:20260422T063045
DTSTART:20201223T113000Z
DTEND:20201223T235000Z
TZID:UTC
LOCATION:Catedral de Almería Plaza de la Catedral\,  8\,  04001 Almería
SUMMARY:CONVOCATORIA DE MEDIOS: Presentación del vídeo ‘Diario de un viaje mágico’ y la aplicación web mensajedelosreyesmagos.com
DESCRIPTION: La Diputación Provincial de Almería convoca a los medios de comunicación a la presentación del vídeo ‘Diario de un viaje mágico’ y de la aplicación web mensajedelosreyesmagos.com En la presentación participará el presidente de la Diputación Provincial\,  Javier A. García y el alcalde de Almería\,  Ramón Fernández-Pacheco\,  que estarán acompañados[..]\nhttps://blog.dipalme.org/events/convocatoria-medios-presentacion-del-video-diario-viaje-magico-la-aplicacion-web-mensajedelosreyesmagos-com/
URL:https://blog.dipalme.org/events/convocatoria-medios-presentacion-del-video-diario-viaje-magico-la-aplicacion-web-mensajedelosreyesmagos-com/
END:VEVENT
END:VCALENDAR