BEGIN:VCALENDAR
VERSION:2.0
PRODID:-//eventon.com NONSGML v1.0//EN
BEGIN:VEVENT
UID:69e528a74d939
DTSTAMP:20260419T211031
DTSTART:20201216T110000Z
DTEND:20201216T235000Z
TZID:UTC
LOCATION:Salón de Plenos de la Diputación Provincial Calle Navarro Rodrigo\,  nº 7.
SUMMARY:CONVOCATORIA DE MEDIOS: Colaboración entre la Diputación y el Ayuntamiento de Almería con Fundación ‘la Caixa’
DESCRIPTION: La Diputación Provincial de Almería convoca a los medios de comunicación a la presentación de la colaboración que van a iniciar la Diputación de Almería\,  el Ayuntamiento de Almería y la Fundación ‘la Caixa’ a favor de las personas en situación de vulnerabilidad en la provincia. En el acto participará[..]\nhttps://blog.dipalme.org/events/convocatoria-medios-colaboracion-la-diputacion-ayuntamiento-almeria-fundacion-la-caixa/
URL:https://blog.dipalme.org/events/convocatoria-medios-colaboracion-la-diputacion-ayuntamiento-almeria-fundacion-la-caixa/
END:VEVENT
END:VCALENDAR