BEGIN:VCALENDAR
VERSION:2.0
PRODID:-//eventon.com NONSGML v1.0//EN
BEGIN:VEVENT
UID:69e7f50da6cb2
DTSTAMP:20260422T000709
DTSTART:20201110T123000Z
DTEND:20201112T140000Z
TZID:UTC
LOCATION:
SUMMARY:Acreditación FICAL 2020
DESCRIPTION: Estimados compañeros: Os informamos sobre el proceso de acreditación para las distintas actividades del XIX Festival Internacional de Cine de Almería\,  FICAL 2020: &#8211; La acreditación es imprescindible para todas las actividades y espacios del Festival que se celebren de forma presencial hasta completar aforo. &#8211; Para las Galas del[..]\nhttps://blog.dipalme.org/events/acreditacion-fical-2020/
URL:https://blog.dipalme.org/events/acreditacion-fical-2020/
END:VEVENT
END:VCALENDAR