BEGIN:VCALENDAR
VERSION:2.0
PRODID:-//eventon.com NONSGML v1.0//EN
BEGIN:VEVENT
UID:69ea48e986455
DTSTAMP:20260423T182929
DTSTART:20200728T110000Z
DTEND:20200728T235000Z
TZID:UTC
LOCATION:Patio de Luces de la Diputación Provincial 
SUMMARY:Presentación Circuito Provincial de Carreras Populares
DESCRIPTION: La Diputación de Almería convoca a los medios de comunicación a la presentación de la edición de 2020 del Circuito Provincial de Carreras Populares. En la presentación participará la diputada de Deportes\,  María Luisa Cruz\,  que estará acompañada por alcaldes y concejales de los 10 municipios que participan en el[..]\nhttps://blog.dipalme.org/events/presentacion-circuito-provincial-carreras-populares/
URL:https://blog.dipalme.org/events/presentacion-circuito-provincial-carreras-populares/
END:VEVENT
END:VCALENDAR