BEGIN:VCALENDAR
VERSION:2.0
PRODID:-//eventon.com NONSGML v1.0//EN
BEGIN:VEVENT
UID:69ed2e5b804c0
DTSTAMP:20260425T231259
DTSTART:20200312T190000Z
DTEND:20200312T235000Z
TZID:UTC
LOCATION:Terraza de las Almadrabillas Plaza de los Perodistas s/n\,  04007 Almería
SUMMARY:XIII Ruta de Tapas por Almería
DESCRIPTION: El diputado de Promoción Agroalimentaria\,  Antonio J. Rodríguez\,  participa en el brindis inaugural de la XIII Ruta de Tapas por Almería\,  en la Terraza de las Almadrabillas\,  Plaza de los Periodistas.\nhttps://blog.dipalme.org/events/xiii-ruta-tapas-almeria/
URL:https://blog.dipalme.org/events/xiii-ruta-tapas-almeria/
END:VEVENT
END:VCALENDAR