BEGIN:VCALENDAR
VERSION:2.0
PRODID:-//eventon.com NONSGML v1.0//EN
BEGIN:VEVENT
UID:69eca30fdac23
DTSTAMP:20260425T131839
DTSTART:20200302T113000Z
DTEND:20200302T235000Z
TZID:UTC
LOCATION:Hall de la Primera Planta del Palacio Provincial C/ Navarro Rodrigo\,  17
SUMMARY:Presentación del Circuito Provincial de Carreras de Montaña y Travesías populares por montaña
DESCRIPTION: La Diputación Provincial de Almería convoca a los medios de comunicación a la presentación del Circuito Provincial de Carreras de Montaña y a las Travesías Populares por montaña. En la presentación participarán la diputada de Deportes\,  María Luisa Cruz\,  y el delegado en Almería de la Federación Andaluza de Montañismo\, [..]\nhttps://blog.dipalme.org/events/presentacion-del-circuito-provincial-carreras-montana-travesias-populares-montana/
URL:https://blog.dipalme.org/events/presentacion-del-circuito-provincial-carreras-montana-travesias-populares-montana/
END:VEVENT
END:VCALENDAR