BEGIN:VCALENDAR
VERSION:2.0
PRODID:-//eventon.com NONSGML v1.0//EN
BEGIN:VEVENT
UID:69ebaf814d7d0
DTSTAMP:20260424T195929
DTSTART:20200207T100000Z
DTEND:20200207T235000Z
TZID:UTC
LOCATION:Centro Ocupacional Asprodalba Pago Del Moralico Sn\,  Centro Ocupacional Asprodalba\,  04620 Vera\,  Almería
SUMMARY:Visita del Centro Ocupacional Asprodalba
DESCRIPTION: La vicepresidenta\,  Ángeles Martínez\,  visita el Centro Ocupacional Asprodalba en Vera junto al alcalde\,  José Carmelo Jorge.\nhttps://blog.dipalme.org/events/visita-del-centro-ocupacional-asprodalba/
URL:https://blog.dipalme.org/events/visita-del-centro-ocupacional-asprodalba/
END:VEVENT
END:VCALENDAR