BEGIN:VCALENDAR
VERSION:2.0
PRODID:-//eventon.com NONSGML v1.0//EN
BEGIN:VEVENT
UID:69e51026a2968
DTSTAMP:20260419T192558
DTSTART:20200107T084100Z
DTEND:20200107T084100Z
TZID:UTC
LOCATION:Salón Noble de la Delegación de la Junta de Andalucía en Almería Paseo de Almería\,  68\,  04001 Almería
SUMMARY:Acto de entrega Convenios Colaboración Consejería de Presidencia\,  Administración Pública e Interior de la Junta de Andalucía
DESCRIPTION: El presidente de la Diputación Provincial de Almería\,  Javier Aureliano García\,  asiste al acto de entrega de los convenios de colaboración entre la Consejería de Presidencia\,  Administración Pública e Interior de la Junta de Andalucía con ayuntamientos de la provincia de Almería para la integración de los Servicios de Emergencia[..]\nhttps://blog.dipalme.org/events/acto-entrega-convenios-colaboracion-consejeria-presidencia-administracion-publica-e-interior-la-junta-andalucia/
URL:https://blog.dipalme.org/events/acto-entrega-convenios-colaboracion-consejeria-presidencia-administracion-publica-e-interior-la-junta-andalucia/
END:VEVENT
END:VCALENDAR