BEGIN:VCALENDAR
VERSION:2.0
PRODID:-//eventon.com NONSGML v1.0//EN
BEGIN:VEVENT
UID:69e81336890a7
DTSTAMP:20260422T021550
DTSTART:20190912T110000Z
DTEND:20190912T235000Z
TZID:UTC
LOCATION:Sala de Prensa de la Plaza Vieja Ayuntamiento de Almería
SUMMARY:Presentación de la ‘Marcha Nórdica Ciudad de Almería 2019’
DESCRIPTION: La diputada de Deportes\,  María Luisa Cruz\,  asiste a la presentación de la ‘Marcha Nórdica Ciudad de Almería 2019’.\nhttps://blog.dipalme.org/events/presentacion-la-marcha-nordica-ciudad-almeria-2019/
URL:https://blog.dipalme.org/events/presentacion-la-marcha-nordica-ciudad-almeria-2019/
END:VEVENT
END:VCALENDAR