BEGIN:VCALENDAR
VERSION:2.0
PRODID:-//eventon.com NONSGML v1.0//EN
BEGIN:VEVENT
UID:69ec02e69dda7
DTSTAMP:20260425T015518
DTSTART:20190722T180000Z
DTEND:20190722T235000Z
TZID:UTC
LOCATION:Teatro Municipal de Vélez Blanco Vélez Blanco
SUMMARY:Inauguración XVIII Festival de Música Renacentista y Barroca de Vélez Blanco
DESCRIPTION: El diputado de Cultura y Cine\,  Manuel Guzmán\,  asiste a la inauguración del XVIII Festival de Música Renacentista y Barroca de Vélez Blanco.\nhttps://blog.dipalme.org/events/inauguracion-xviii-festival-musica-renacentista-barroca-velez-blanco/
URL:https://blog.dipalme.org/events/inauguracion-xviii-festival-musica-renacentista-barroca-velez-blanco/
END:VEVENT
END:VCALENDAR