BEGIN:VCALENDAR
VERSION:2.0
PRODID:-//eventon.com NONSGML v1.0//EN
BEGIN:VEVENT
UID:69ec9d0328cc1
DTSTAMP:20260425T125251
DTSTART:20190510T100000Z
DTEND:20190510T235000Z
TZID:UTC
LOCATION:Salón Nobles del Círculo Mercantil de Almería Poeta Villaespesa\,  1
SUMMARY:Desayuno-coloquio: ‘Hacia una agricultura\,  ganadería y pesca más sostenible y competitiva’
DESCRIPTION: El presidente de Diputación\,  Javier A. García\,  asiste al desayuno-coloquio ‘Hacia una agricultura\,  ganadería y pesca más sostenible y competitiva’\,  en el que participa Carmen Crespo\,  consejera de Agricultura\,  Ganadería\,  Pesca y Desarrollo Sostenible de la Junta de Andalucía.\nhttps://blog.dipalme.org/events/desayuno-coloquio-hacia-una-agricultura-ganaderia-pesca-mas-sostenible-competitiva/
URL:https://blog.dipalme.org/events/desayuno-coloquio-hacia-una-agricultura-ganaderia-pesca-mas-sostenible-competitiva/
END:VEVENT
END:VCALENDAR