BEGIN:VCALENDAR
VERSION:2.0
PRODID:-//eventon.com NONSGML v1.0//EN
BEGIN:VEVENT
UID:69ece55492371
DTSTAMP:20260425T180124
DTSTART:20190321T103000Z
DTEND:20190321T235000Z
TZID:UTC
LOCATION:Hall de la Sala de Comisiones del Palacio Provincial C/ Navarro Rodrigo\,  17
SUMMARY:Plan Especial Diputación
DESCRIPTION: La Diputación Provincial de Almería convoca a los medios de comunicación a la presentación del nuevo Plan Especial de la Institución. Asistirá el presidente de la Diputación\,  Javier A. García\,  el diputado de Presidencia\,  Fernando Giménez y el diputado de Hacienda\,  Manuel Alías.\nhttps://blog.dipalme.org/events/plan-especial-diputacion/
URL:https://blog.dipalme.org/events/plan-especial-diputacion/
END:VEVENT
END:VCALENDAR