BEGIN:VCALENDAR
VERSION:2.0
PRODID:-//eventon.com NONSGML v1.0//EN
BEGIN:VEVENT
UID:69ed0b24b4547
DTSTAMP:20260425T204244
DTSTART:20190207T190000Z
DTEND:20190207T235000Z
TZID:UTC
LOCATION:Patio de Luces del Palacio Provincial. Planta Baja. C/ Navarro Rodrigo\,  17
SUMMARY:Inauguración Exposición ‘Sentimientos dibujados\,  enfermedades pintadas’
DESCRIPTION: La Diputación Provincial de Almería convoca a los medios de comunicación a la inauguración de la Exposición ‘Sentimientos dibujados\,  enfermedades pintadas’. Asistirá el presidente\,  Javier A. García\,  la presidenta del Foro Almería Centro\,  Elodia Ortiz\,  el catedrático de la Universidad de Valencia\,  Román de la Calle y la artista\,  Lita[..]\nhttps://blog.dipalme.org/events/inauguracion-exposicion-sentimientos-dibujados-enfermedades-pintadas/
URL:https://blog.dipalme.org/events/inauguracion-exposicion-sentimientos-dibujados-enfermedades-pintadas/
END:VEVENT
END:VCALENDAR