BEGIN:VCALENDAR
VERSION:2.0
PRODID:-//eventon.com NONSGML v1.0//EN
BEGIN:VEVENT
UID:69ed5fb291784
DTSTAMP:20260426T024330
DTSTART:20181210T103000Z
DTEND:20181210T235000Z
TZID:UTC
LOCATION:Hall de la Sala de Comisiones del Palacio Provincial\,  Primera Planta. C/ Navarro Rodrigo\,  17
SUMMARY:XXXV Encuentro Cuadrillas Vélez-Rubio
DESCRIPTION: La Diputación Provincial de Almería convoca a los medios de comunicación a la presentación del XXXV Encuentro de Cuadrillas de Vélez-Rubio.   Asistirá al acto el diputado de Cultura\,  Antonio J. Rodríguez; el alcalde de Vélez-Rubio\,  Miguel Martínez Carlón; la presidenta del Grupo Folklórico Virgen de la Salud\,  Ana Molina[..]\nhttps://blog.dipalme.org/events/xxxv-encuentro-cuadrillas-velez-rubio/
URL:https://blog.dipalme.org/events/xxxv-encuentro-cuadrillas-velez-rubio/
END:VEVENT
END:VCALENDAR