BEGIN:VCALENDAR
VERSION:2.0
PRODID:-//eventon.com NONSGML v1.0//EN
BEGIN:VEVENT
UID:69e6737836164
DTSTAMP:20260420T204200
DTSTART:20180509T113000Z
DTEND:20180509T235000Z
TZID:UTC
LOCATION:Hall de la Sala de Comisiones del Palacio Provincial\,  Primera Planta. C/ Navarro Rodrigo\,  17
SUMMARY:‘Trackman Cycling 2018’
DESCRIPTION: La Diputación Provincial de Almería convoca a los medios de comunicación a la rueda de prensa de presentación de la ‘Trackman Cycling 2018’. Asistirán al acto la diputada provincial de Deportes\,  Ángeles Martínez y el responsable de la organización\,  Alberto Pogonoski.\nhttps://blog.dipalme.org/events/trackman-cycling-2018/
URL:https://blog.dipalme.org/events/trackman-cycling-2018/
END:VEVENT
END:VCALENDAR