BEGIN:VCALENDAR
VERSION:2.0
PRODID:-//eventon.com NONSGML v1.0//EN
BEGIN:VEVENT
UID:69e70f8008858
DTSTAMP:20260421T074744
DTSTART:20180201T100000Z
DTEND:20180201T235000Z
TZID:UTC
LOCATION:Salón de Plenos del Palacio Provincial. Primera Planta. C/ Navarro Rodrigo\,  17
SUMMARY:Pleno Ordinario
DESCRIPTION: La Diputación Provincial de Almería convoca a los medios de comunicación a la sesión ordinaria que celebrará el Pleno de la Corporación en el Palacio Provincial.\nhttps://blog.dipalme.org/events/pleno-ordinario-12/
URL:https://blog.dipalme.org/events/pleno-ordinario-12/
END:VEVENT
END:VCALENDAR