BEGIN:VCALENDAR
VERSION:2.0
PRODID:-//eventon.com NONSGML v1.0//EN
BEGIN:VEVENT
UID:69ea4d4d1e003
DTSTAMP:20260423T184813
DTSTART:20171019T180000Z
DTEND:20171019T235000Z
TZID:UTC
LOCATION:Espacio de Mujeres de la Diputación Provincial. Delegación de Igualdad. C/ Marín\,  1
SUMMARY:Conferencia Espacio de Mujeres
DESCRIPTION: La Diputación Provincial de Almería convoca a los medios de comunicación a la conferencia ‘La titularidad compartida\,  una inversión de futuro de las mujeres rurales’. Asistirá la diputada de Igualdad\,  Dolores Martínez y la presidenta de la Asociación de Familias y Mujeres del Medio Rural (AFAMMER)\,  Rita Mateos.\nhttps://blog.dipalme.org/events/conferencia-espacio-mujeres/
URL:https://blog.dipalme.org/events/conferencia-espacio-mujeres/
END:VEVENT
END:VCALENDAR