BEGIN:VCALENDAR
VERSION:2.0
PRODID:-//eventon.com NONSGML v1.0//EN
BEGIN:VEVENT
UID:69e65afdcc2ef
DTSTAMP:20260420T185733
DTSTART:20170704T141500Z
DTEND:20170704T235000Z
TZID:UTC
LOCATION:Fines Fines 
SUMMARY:Visita Escultura ‘Libertad’ de Fines
DESCRIPTION: La Diputación Provincial de Almería convoca a los medios de comunicación a la visita a la Escultura ‘Libertad’ de Fines que se instaló como monumento contra la violencia de género. Asistirá el presidente de la Diputación\,  Gabriel Amat y la Ministra de Sanidad\,  Servicios Sociales e Igualdad\,  Dolors Montserrat.\nhttps://blog.dipalme.org/events/visita-escultura-libertad-fines/
URL:https://blog.dipalme.org/events/visita-escultura-libertad-fines/
END:VEVENT
END:VCALENDAR