BEGIN:VCALENDAR
VERSION:2.0
PRODID:-//eventon.com NONSGML v1.0//EN
BEGIN:VEVENT
UID:69e93c53e7347
DTSTAMP:20260422T232331
DTSTART:20170628T180000Z
DTEND:20170628T235000Z
TZID:UTC
LOCATION:Sede A toda Vela C/Antonio Muñoz Zamora\,  9\,  Almería
SUMMARY:Agenda 28.06.2017
DESCRIPTION: La diputada de Promoción Económica y Empleo\,  Carmen Belén López\,  asiste a la presentación del nuevo servicio de formación y empleo de la Asociación ‘A Toda Vela’.\nhttps://blog.dipalme.org/events/agenda-28-06-2017/
URL:https://blog.dipalme.org/events/agenda-28-06-2017/
END:VEVENT
END:VCALENDAR