BEGIN:VCALENDAR
VERSION:2.0
PRODID:-//eventon.com NONSGML v1.0//EN
BEGIN:VEVENT
UID:69e6f4303ab2b
DTSTAMP:20260421T055112
DTSTART:20170505T103000Z
DTEND:20170505T235000Z
TZID:UTC
LOCATION:Sala de Comisiones del Palacio Provincial C/ Navarro Rodrigo\,  17
SUMMARY:Vacaciones en Paz 2017
DESCRIPTION: La Diputación Provincial de Almería convoca a los medios de comunicación a la rueda de prensa de presentación del proyecto ‘Vacaciones en Paz 2017’ de la Asociación ‘Amigos del Sahara’. Asistirá el diputado de Bienestar Social\,  Ángel Escobar; la tesorera de la Asociación\,  María Ramírez y la responsable del proyecto\, [..]\nhttps://blog.dipalme.org/events/vacaciones-paz-2017/
URL:https://blog.dipalme.org/events/vacaciones-paz-2017/
END:VEVENT
END:VCALENDAR