BEGIN:VCALENDAR
VERSION:2.0
PRODID:-//eventon.com NONSGML v1.0//EN
BEGIN:VEVENT
UID:69ec9dcc944d5
DTSTAMP:20260425T125612
DTSTART:20170314T203000Z
DTEND:20170314T235000Z
TZID:UTC
LOCATION:Patio de Luces del Palacio Provincial. Planta Baja. C/ Navarro Rodrigo\,  17
SUMMARY:Exposición Patio de Luces
DESCRIPTION: La Diputación Provincial de Almería convoca a los medios de comunicación a la inauguración de la exposición ‘La Almería Industrial\,  Memoria Fotográfica de los Talleres Oliveros’ que organiza con la colaboración de la Asociación de Amigos del Ferrocarril de Almería. El diputado de Cultura\,  Antonio J. Rodríguez\,  y el presidente[..]\nhttps://blog.dipalme.org/events/exposicion-patio-luces/
URL:https://blog.dipalme.org/events/exposicion-patio-luces/
END:VEVENT
END:VCALENDAR