BEGIN:VCALENDAR
VERSION:2.0
PRODID:-//eventon.com NONSGML v1.0//EN
BEGIN:VEVENT
UID:69ea722fbe1a7
DTSTAMP:20260423T212535
DTSTART:20170329T113000Z
DTEND:20170329T235000Z
TZID:UTC
LOCATION:Sala de Comisiones del Palacio Provincial C/ Navarro Rodrigo\,  17
SUMMARY:Novedades Hospital Provincial
DESCRIPTION: La Diputación Provincial de Almería convoca a los medios de comunicación a la rueda de prensa que ofrecerá el vicepresidente de Diputación\,  Javier A. García\,  para abordar las novedades sobre el Hospital Provincial.\nhttps://blog.dipalme.org/events/novedades-hospital-provincial/
URL:https://blog.dipalme.org/events/novedades-hospital-provincial/
END:VEVENT
END:VCALENDAR